BEGIN:VCALENDAR
VERSION:2.0
PRODID:-//Crown Jesus - ECPv6.15.20//NONSGML v1.0//EN
CALSCALE:GREGORIAN
METHOD:PUBLISH
X-ORIGINAL-URL:https://crownjesus.org
X-WR-CALDESC:Events for Crown Jesus
REFRESH-INTERVAL;VALUE=DURATION:PT1H
X-Robots-Tag:noindex
X-PUBLISHED-TTL:PT1H
BEGIN:VTIMEZONE
TZID:UTC
BEGIN:STANDARD
TZOFFSETFROM:+0000
TZOFFSETTO:+0000
TZNAME:UTC
DTSTART:20250101T000000
END:STANDARD
END:VTIMEZONE
BEGIN:VEVENT
DTSTART;TZID=UTC:20260320T190000
DTEND;TZID=UTC:20260320T220000
DTSTAMP:20260422T125156
CREATED:20260224T214652Z
LAST-MODIFIED:20260224T220914Z
UID:13709-1774033200-1774044000@crownjesus.org
SUMMARY:1WAY Youth Event
DESCRIPTION:A youth event sharing the hope of Jesus. The night will include prize giveaways\, crazy challenges and of course\, our gunge tank! A night not to be missed!
URL:https://crownjesus.org/event/1way-youth-event-2/
LOCATION:RCCG Christ the King Parish\, Unit 12A N 5 Business Park\, Castelbar\, Mayo\, F23 TW96\, Ireland
CATEGORIES:Main Site,StPatricksHope
ATTACH;FMTTYPE=image/png:https://crownjesus.org/wp-content/uploads/2026/02/1Way-Mayo-Hope-2026-Web-Graphic-compressed.png
ORGANIZER;CN="Crown Jesus Ministries":MAILTO:info@crownjesus.org
END:VEVENT
BEGIN:VEVENT
DTSTART;TZID=UTC:20260320T193000
DTEND;TZID=UTC:20260320T210000
DTSTAMP:20260422T125156
CREATED:20260209T170743Z
LAST-MODIFIED:20260212T154704Z
UID:13611-1774035000-1774040400@crownjesus.org
SUMMARY:Dad Camp FUEL
DESCRIPTION:DadCamp FUEL is a gathering for dads\, a space to connect\, pray\, and be encouraged in fatherhood and faith. \nAbout the event\n\n\n\nDads\, you’re invited to our next FUEL night\, a space to connect\, be encouraged\, and get inspired in your role as a father. \nThe Theme is: Fighting for the Hearts of Our Children \nFatherhood is not passive. It’s a spiritual battle. \nWe’ll explore the truth that we’re not just raising children\, we’re participating in a much bigger story that God is writing and our children are not accidental to that story. They are part of the inheritance we’re entrusted with. \nThis session will help dads wrestle with what it really means to fight for the hearts of our kids: \n* Recognising that fatherhood is spiritual warfare\n* Rediscovering prayer as our greatest weapon\n* Learning how to intentionally pursue the hearts of our children \nJoined by Andy Lamberton from Legacy\, expect honest conversation\, prayer\, reflection\, and practical wisdom you can put into practice straight away. \nIf you care about the hearts of your children and the legacy you’re leaving\, this is a night not to miss. \nCome ready. Bring another dad with you. \nYou’ve Got What It Takes
URL:https://crownjesus.org/event/dad-camp-fuel-2/
LOCATION:Crown Jesus HQ\, 7 Calvin St\, Belfast\, BT5 4NS\, United Kingdom
CATEGORIES:DadCamp,Main Site
ATTACH;FMTTYPE=image/png:https://crownjesus.org/wp-content/uploads/2026/02/Got-it-—-thanks-for-catching-that.-Heres-a-reworked-webpage-blurb-focused-on-kids-in-general-keeping-the-same-depth-tone-and-spiritual-weight-Fighting-for-the-Hearts-of-Our-Children-Fa-1.png
ORGANIZER;CN="Crown Jesus Ministries":MAILTO:info@crownjesus.org
END:VEVENT
BEGIN:VEVENT
DTSTART;VALUE=DATE:20260321
DTEND;VALUE=DATE:20260322
DTSTAMP:20260422T125156
CREATED:20260221T093022Z
LAST-MODIFIED:20260309T123951Z
UID:13529-1774051200-1774137599@crownjesus.org
SUMMARY:GALWAY - School of Evangelism Open Session Saturday 21st March
DESCRIPTION:Join us for a powerful full day of evangelism training\, exploring both the history and practical elements of sharing the Gospel today. Through biblical teaching\, real-life stories\, and practical tools\, this day is designed to equip and inspire you to confidently share Jesus in everyday life. \nIf you can’t commit to the full School of Evangelism course\, we would love to welcome you to this open session with our Galway cohort. \nWhen: Saturday 21st March \nWhere: Galway Christian Fellowship\, Monivea Road\, Ballybrit\, Galway\, H91 H2W8\, Ireland. \nTime: 9:30 pm – 4 pm  \nCost: £40 includes lunch and course materials. \nFour teaching sessions on: A History & practice of Evangelism in Ireland \nWhether you’re new to evangelism or looking to grow in confidence\, this day will help equip you to live and share the Gospel wherever God has placed you. \nMeet the teaching Team: \nMitch – Evangelist\, co-founder of Crown Jesus Ministries and author of Snatched from the Fire. \nAmanda Mitchell – Evangelist and CCO at Crown Jesus Ministries.  \nSean O’Mahony – Seasoned evangelist across Ireland and part of the lead team at Athenry Gospel Centre\, Galway.  \nLiam Griffin –Part of the CCI family\, Leading Servant Evangelism at Discovery Church\, Galway. \nBe equipped. Be encouraged. Be sent. \nSpaces are limited — book your place today. \n  \n  \n\n\n\n\n Add to calendar \n\n\n\n\n\n\n\n\n\n 
URL:https://crownjesus.org/event/galway-school-of-evangelism-open-session-saturday-21st-march/
LOCATION:Galway Christian Fellowship Church\, Monivea Road\, Galway\, Ballybrit\, H91 H2W8
CATEGORIES:Main Site,School of Evangelism
ATTACH;FMTTYPE=image/png:https://crownjesus.org/wp-content/uploads/2026/02/SOE-Saturday-Modules-SM-Template-Shared-9.png
ORGANIZER;CN="Crown Jesus Ministries":MAILTO:info@crownjesus.org
END:VEVENT
BEGIN:VEVENT
DTSTART;TZID=UTC:20260322T190000
DTEND;TZID=UTC:20260322T210000
DTSTAMP:20260422T125156
CREATED:20260227T100341Z
LAST-MODIFIED:20260227T100341Z
UID:13740-1774206000-1774213200@crownjesus.org
SUMMARY:Stories of Hope
DESCRIPTION:Join us for an evening of music and stories exploring the hope of Jesus and how He transforms lives. \nWe are delighted to be joined by special guests: \nJohn McCarthy: Irish pro surfer who runs Youtube channel ‘Cliffs of Hope’ \nGraham O’Riordan: From brokenness and addiction to wholeness in Christ \nMitch: A firefighter for 16 years who himself was ’snatched from the fire’ \nMusic by the one and only Rafal
URL:https://crownjesus.org/event/stories-of-hope/
LOCATION:The Wyatt Hotel\, The Octagon\, Westport\, Mayo\, F28 TD76\, Ireland
CATEGORIES:Main Site,StPatricksHope
ATTACH;FMTTYPE=image/png:https://crownjesus.org/wp-content/uploads/2026/02/Stories-of-Hope-Web-Event-compressed.png
ORGANIZER;CN="Crown Jesus Ministries":MAILTO:info@crownjesus.org
END:VEVENT
BEGIN:VEVENT
DTSTART;TZID=UTC:20260418T190000
DTEND;TZID=UTC:20260418T214500
DTSTAMP:20260422T125156
CREATED:20260304T162633Z
LAST-MODIFIED:20260422T090637Z
UID:13764-1776538800-1776548700@crownjesus.org
SUMMARY:HUB Saturday 18th April 2026
DESCRIPTION:HUB is a high-energy youth gathering for young people aged 11–18\, we’re passionate about seeing young people HEAR stories of what God has done\, UNDERSTAND more of His word\, and BECOME more like Jesus in everyday life. \nAbout the event\n\n\n\nEach event is packed with powerful worship\, real-life testimonies\, challenging teaching\, creative prayer spaces\, and a ton of fun – plus our HUB GRUB Café and plenty of chances to win prizes and take on exciting challenges. \nOur heart is to empower a generation to live boldly for Jesus and confidently share Him with others. We’re here to support churches and youth workers\, cheering you on as you invest in young people. HUB isn’t just a one-off moment – it’s fuel for the fire God’s already lighting in your community. \nCome expectant\, come ready\, and come hungry – for food\, for fun\, and for more of Jesus.  \nWhether you come on your own\, bring a bunch of mates\, or rock up with your youth group or SU\, you’ll find a place where everyone’s welcome and everyone belongs. \nWhat Happens at HUB?\nEach night is packed with: \n·       Live worship \n·       Teaching from God’s Word \n·       Time to pray and respond \n·       Fun challenges & prizes \n·       The HUB GRUB Café \nFor more info please contact ian@crownjesus.org
URL:https://crownjesus.org/event/hub-saturday-18th-april-2026/
LOCATION:Crown Jesus HQ\, 7 Calvin St\, Belfast\, BT5 4NS\, United Kingdom
CATEGORIES:HUB,Main Site
ATTACH;FMTTYPE=image/png:https://crownjesus.org/wp-content/uploads/2025/11/HUB-Vertical-Graphic-330px.png
ORGANIZER;CN="Crown Jesus Ministries":MAILTO:info@crownjesus.org
END:VEVENT
BEGIN:VEVENT
DTSTART;TZID=UTC:20260424T191500
DTEND;TZID=UTC:20260425T210000
DTSTAMP:20260422T125156
CREATED:20260414T133647Z
LAST-MODIFIED:20260414T134832Z
UID:13874-1777058100-1777150800@crownjesus.org
SUMMARY:DadCamp Taster Kildare 2026
DESCRIPTION:We cant wait to welcome you and your kids to a a high-energy\, DadCamp experience! \nThis DadCamp Taster is for dads and their kids (8-14). It’s a chance to step away from everyday life and have a fun and intentional time with your kids. This night is a fun\, high-energy experience packed with games\, challenges\, and moments that build real connection. \nIt’s about laughing together\, working as a team\, and creating memories that actually last\, while also giving you space to think about the kind of dad you want to be. \nTwo hours. No distractions. Just you and your child. \nBook your place now. \n 
URL:https://crownjesus.org/event/dadcamp-taster-kildare-2026/
LOCATION:The Bridge Church\, Celbridge\, Co.Kildare\, W23 R763\, The Bridge Church\, Celbridge Industrial Estate Unit 4\,\, Celbridge\, Kildare\, W23 R763\, Ireland
CATEGORIES:DadCamp,Main Site
ATTACH;FMTTYPE=image/png:https://crownjesus.org/wp-content/uploads/2026/04/dadcamp-taster.png
ORGANIZER;CN="Crown Jesus Ministries":MAILTO:info@crownjesus.org
END:VEVENT
BEGIN:VEVENT
DTSTART;TZID=UTC:20260427T193000
DTEND;TZID=UTC:20260427T210000
DTSTAMP:20260422T125156
CREATED:20260420T132548Z
LAST-MODIFIED:20260420T132708Z
UID:13987-1777318200-1777323600@crownjesus.org
SUMMARY:The Authority of Evangelism with Dr Joe Boot
DESCRIPTION:We are delighted to have our good friend\, apologist\, and cultural theologian\, Dr Joe Boot\, with us for this special evening when he will be teaching on “The Authority of Evangelism” \nThis gathering is for those who have a heart for evangelism\,  sense a call to do the work of an evangelist\, and those passionate about holding to the integrity of the Gospel in an ever changing culture.  \nThis event is free of charge\, however booking is essential to help us prepare and offer hospitality. \nEvent Details:\nDate: Monday 27th April \nTime: 7:30 PM (Doors open 7pm) \nCost: Free (booking required) \nAbout Dr Joe Boot\nRev. Dr Joseph Boot (M.A.\, Ph.D.) is a Christian thinker\, cultural apologist\, and Founder and President of the Ezra Institute for Contemporary Christianity. He also serves as an adjunct instructor in culture and apologetics at Bryan College in Tennessee and previously pastored Westminster Chapel in Toronto for 14 years. \nNow based in Great Britain\, Joe has spent over 25 years working in Christian apologetics\, worldview education\, and church leadership across both sides of the Atlantic. He has spoken widely at universities\, seminaries\, churches\, and conferences around the world\, and has publicly debated leading atheistic thinkers in Canada and the United States. \nHe holds a degree in Theology from Birmingham Christian College\, a Master’s in Mission Theology from the University of Manchester\, and a PhD in Christian Intellectual Thought from Whitefield Theological Seminary in Florida.Joe is the author of several books\, including Searching for Truth\, Why I Still Believe\, How Then Shall We Answer\, The Mission of God\, Ruler of Kings\, Gospel Culture\, and Gospel Witness. \nAdditional Teaching Opportunity\nDr Boot will also be teaching at our School of Evangelism in Dublin on Saturday 25th April\, delivering four sessions on apologetics. \nBook Your Place\nSpaces are limited\, so we encourage you to book in advance to secure your place and assist us with planning. \n 
URL:https://crownjesus.org/event/specialevangelistsgathering-withdrjoeboot/
LOCATION:Crown Jesus HQ\, 7 Calvin St\, Belfast\, BT5 4NS\, United Kingdom
CATEGORIES:Main Site,School of Evangelism
ATTACH;FMTTYPE=image/png:https://crownjesus.org/wp-content/uploads/2026/04/Evangelist-Gathering-Socials-graphic-Joe-Boot-330px.png
ORGANIZER;CN="Crown Jesus Ministries":MAILTO:info@crownjesus.org
END:VEVENT
BEGIN:VEVENT
DTSTART;TZID=UTC:20260814T173000
DTEND;TZID=UTC:20260815T180000
DTSTAMP:20260422T125156
CREATED:20260130T212620Z
LAST-MODIFIED:20260205T112832Z
UID:13394-1786728600-1786816800@crownjesus.org
SUMMARY:DadCamp 2026
DESCRIPTION:What Is DadCamp?\nDadCamp is back! We cant wait to welcome you and your kids to a a high-energy\, unforgettable summer camp experience! \nDadCamp is for dads and their kids (8-14). It’s a chance to step away from the noise of everyday life and jump into a weekend packed with adventure\, laughter\, and real connection. Think games\, challenges\, outdoor fun\, campfires\, and moments that turn into lifelong memories. \nDadCamp is designed to help dads and their kids have fun together while strengthening their bond in a way that feels natural\, exciting\, and meaningful. \nDadCamp is a chance to: \n\nStrengthen your connection with your child in a meaningful\, intentional way\nStep out of autopilot and refocus on what kind of dad you want to be\nLearn alongside other fathers who are choosing growth over drift\nBe encouraged\, challenged\, and supported in a safe\, authentic environment\nBuild a strong foundation for fatherhood rooted in faith\, purpose\, and love\n\nAll Dads and their kids are welcome! \nDadCamp is faith-rooted \, but you don’t need to have it all together. You just need to be willing to show and have fun with your kids. \nDadCamp is about showing up\, leaning in\, and sharing an experience your kids will talk about for years to come. You’ll leave tired\, smiling\, and more connected than when you arrived. \nRemember\, you’ve got what it takes! \nMake sure to avail of the early bird discount today! \n  \n 
URL:https://crownjesus.org/event/dadcamp-2026/
LOCATION:Belfast YMCA\, 56-58 Knightsbridge Park\, Belfast\, BT9 5EH\, United Kingdom
CATEGORIES:DadCamp,Main Site
ATTACH;FMTTYPE=image/jpeg:https://crownjesus.org/wp-content/uploads/2026/01/Dad-Camp-2026-Web-img-580x412px-min.jpg
ORGANIZER;CN="Crown Jesus Ministries":MAILTO:info@crownjesus.org
END:VEVENT
END:VCALENDAR